BEGIN:VCALENDAR
VERSION:2.0
PRODID:-//Tukios.com/
BEGIN:VEVENT
UID:55d79ff9-1c5e-44a4-9344-7576a196b28a@www.mortonchapel.com
DTSTAMP:20260424T042247Z
DTSTART:20260427T210000Z
DTEND:20260428T000000Z
SUMMARY:Visitation
DESCRIPTION:
URL:https://www.mortonchapel.com/obituaries/charles-mathews
LOCATION:Morton Chapel 911 East Main Street  Linn MO 65051
GEO:38.4815734;-91.8444451
END:VEVENT
END:VCALENDAR