BEGIN:VCALENDAR
VERSION:2.0
PRODID:-//Tukios.com/
BEGIN:VEVENT
UID:de3a41a5-612b-4f75-b74b-5dcad03fc073@www.mortonchapel.com
DTSTAMP:20260424T042232Z
DTSTART:20260428T190000Z
DTEND:20260428T200000Z
SUMMARY:Funeral Service
DESCRIPTION:
URL:https://www.mortonchapel.com/obituaries/charles-mathews
LOCATION:Morton Chapel 911 East Main Street  Linn MO 65051
GEO:38.4815734;-91.8444451
END:VEVENT
END:VCALENDAR