BEGIN:VCALENDAR
VERSION:2.0
PRODID:-//Tukios.com/
BEGIN:VEVENT
UID:69345318-2d7a-4726-9d2b-cdf95df89e82@www.mortonchapel.com
DTSTAMP:20260424T042120Z
DTSTART:20260428T200000Z
DTEND:20260428T201500Z
SUMMARY:Burial
DESCRIPTION:
URL:https://www.mortonchapel.com/obituaries/charles-mathews
LOCATION: County Road 303  Linn MO 65051
GEO:38.5263892;-91.8195949
END:VEVENT
END:VCALENDAR